BEGIN:VCALENDAR
PRODID:-//eluceo/ical//2.0/EN
VERSION:2.0
CALSCALE:GREGORIAN
BEGIN:VEVENT
UID:6a9ab37448c13c3341a3234d2c2c6eb9
DTSTAMP:20260422T181228Z
SUMMARY:Miles Nadal JCC - Family Day Activities
DESCRIPTION:UJA Federation of Greater Toronto\nJewish Toronto Calendar\nhtt
 ps://jewishtoronto.com/calendar/family-day\n\nFamily Day\nMonday February 
 16 | 9:00 am - 5:00 pm\nCome out for FREE Family Day activities all day at
  the Miles Nadal JCC! With a dance party\, Frozen characters\, Jungle gym\
 , balloon animals\, face-painting\, soccer demos and much more\, this fest
 ival has something for everyone!\nInfo: athletics@mnjcc.org (416) 924-6211
  x 521\n 
DTSTART;TZID=America/Toronto:20150216T090000
DTEND;TZID=America/Toronto:20150216T170000
END:VEVENT
END:VCALENDAR
