BEGIN:VCALENDAR
PRODID:-//eluceo/ical//2.0/EN
VERSION:2.0
CALSCALE:GREGORIAN
BEGIN:VEVENT
UID:3ce02837b2d795dadb70f345ca4a8c42
DTSTAMP:20260421T025119Z
SUMMARY:Ezer Mizion's Evening of Wonder
DESCRIPTION:UJA Federation of Greater Toronto\nJewish Toronto Calendar\nhtt
 ps://jewishtoronto.com/calendar/ezer-mizions-evening-of-wonder\n\nCelebrat
 e the life-saving work of Ezer Mizion and the profound impact it has on co
 untless lives at Evening of Wonder\, featuring a performance by Israeli bo
 rn\, Master Mentalist Lior Suchard. Lior’s awe-inspiring show is done wi
 th full audience participation and is filled with humour\, excitement and 
 fun. Immerse yourself in a world of mystery\, wonder\, and endless possibi
 lities at this captivating event. \n\nBuy your tickets here: www.ezermizi
 on.ca/wonder 
DTSTART;TZID=America/Toronto:20231114T184500
DTEND;TZID=America/Toronto:20231114T220000
END:VEVENT
END:VCALENDAR
