BEGIN:VCALENDAR
PRODID:-//eluceo/ical//2.0/EN
VERSION:2.0
CALSCALE:GREGORIAN
BEGIN:VEVENT
UID:e1a861d4b4367595c0ac7c11daf2ffc8
DTSTAMP:20260423T160624Z
SUMMARY:Ezer Mizion's Benefit for Life
DESCRIPTION:UJA Federation of Greater Toronto\nJewish Toronto Calendar\nhtt
 ps://jewishtoronto.com/calendar/ezer-mizions-benefit-for-life-1474569720\n
 \nFor Jewish patients worldwide battling cancer and other diseases\, a bon
 e marrow transplant is often their only chance for a cure. Finding the per
 fect genetic match is crucial for a successful transplant\, meaning that J
 ewish patients need Jewish stem cell donors.  The Ezer Mizion Registry is 
 meeting this need by swabbing more than 40\,000 soldiers every year in the
  hopes that their DNA may be a perfect match.
DTSTART;TZID=America/Toronto:20161130T180000
DTEND;TZID=America/Toronto:20161130T213000
END:VEVENT
END:VCALENDAR
