BEGIN:VCALENDAR
PRODID:-//eluceo/ical//2.0/EN
VERSION:2.0
CALSCALE:GREGORIAN
BEGIN:VEVENT
UID:8098cbd8d99ca26c555c5da5b61c32bc
DTSTAMP:20260421T215146Z
SUMMARY:Ezer Mizion Gala - Benefit for Life featuring Keynote Speaker Ehud 
 Barak
DESCRIPTION:UJA Federation of Greater Toronto\nJewish Toronto Calendar\nhtt
 ps://jewishtoronto.com/calendar/ezer-mizion-gala-benefit-for-life\n\nFeatu
 ring Keynote Speaker - Former Prime Minister of Israel\, Ehud Barak
DTSTART;TZID=America/Toronto:20150322T173000
DTEND;TZID=America/Toronto:20150322T213000
END:VEVENT
END:VCALENDAR
