BEGIN:VCALENDAR
PRODID:-//eluceo/ical//2.0/EN
VERSION:2.0
CALSCALE:GREGORIAN
BEGIN:VEVENT
UID:0525769665355de28080c43bc15d36f3
DTSTAMP:20260421T232629Z
SUMMARY:First Narayever Congregation - Eyes in the Bible or Choose Life
DESCRIPTION:UJA Federation of Greater Toronto\nJewish Toronto Calendar\nhtt
 ps://jewishtoronto.com/calendar/eyes-in-the-bible-or-choose-life-147052082
 4\n\nDr. Rahamim Melamed-Cohen is completely paralyzed save for his eyes d
 ue Lou Gehrig’s disease\, but with the help of state of the art technolo
 gy\, he has since been able to publish multiple books since being diagnoze
 d\, including a study of the importance and different appearances of eyes 
 in the Bible. The way he overcame the limitations imposed by the disease i
 s a testament to the human spirit and the power of the human will. In this
  inspiring program\, Rouhama Danto will present the...
DTSTART;TZID=America/Toronto:20160918T110000
DTEND;TZID=America/Toronto:20160918T130000
END:VEVENT
END:VCALENDAR
