BEGIN:VCALENDAR
PRODID:-//eluceo/ical//2.0/EN
VERSION:2.0
CALSCALE:GREGORIAN
BEGIN:VEVENT
UID:cf8afccf1cec213ec694e18340228054
DTSTAMP:20260422T172402Z
SUMMARY:Eye on Israel: The Gatekeepers (Dror Moreh\, 2012)
DESCRIPTION:UJA Federation of Greater Toronto\nJewish Toronto Calendar\nhtt
 ps://jewishtoronto.com/calendar/eye-on-israel-the-gatekeepers-dror-moreh-2
 012-1489089771\n\nHoly Blossom’s Centre for Art and Culture presents:Eye
  on Israel: The Gatekeepers (Dror Moreh\, 2012)Wednesday\, March 22\, 2017
  7:00 p.m.Please join us for screening and discussion of this fascinating\
 , Oscar-nominated documentary\, which tells the story of Shin Bet (the Isr
 aeli internal secret service)\, from the perspective of six of its former 
 heads.The film will be followed by a conversation with our Shinshinim Gil 
 Peled and Noga Ben-Zvi\, and film professor Dr. Gillian Helfield.
DTSTART;TZID=America/Toronto:20170322T190000
DTEND;TZID=America/Toronto:20170322T213000
END:VEVENT
END:VCALENDAR
