BEGIN:VCALENDAR
PRODID:-//eluceo/ical//2.0/EN
VERSION:2.0
CALSCALE:GREGORIAN
BEGIN:VEVENT
UID:f612e8713137a2187af84ee97682dd93
DTSTAMP:20260424T082705Z
SUMMARY:Every Body Dance - JDAIM @ Mnjcc
DESCRIPTION:UJA Federation of Greater Toronto\nJewish Toronto Calendar\nhtt
 ps://jewishtoronto.com/calendar/every-body-dance---jdaim--mnjcc-1450660455
 \n\n5Rhythms® Movement with DJ Layah Jane! 5Rhythms is a dynamic movement
  practice that supports unique expression\, release\, expansion and integr
 ation. It's accessible to people of all ages and abilities\, and is suitab
 le for anyone who wants to rediscover the joy and freedom of dance that is
  within us all. Everyone Welcome – All Ages. All Bodies. Move\, Dance\, 
 Groove! (All Ages)Sundays Nov 15\, Dec 6\, Jan 17\, Feb 7\, March 13\, Apr
 il 17\, May 15 2:30 - 3:30 pm Fee: $12 adults\; $5 children\; funding ...
DTSTART;TZID=America/Toronto:20160207T143000
DTEND;TZID=America/Toronto:20160207T153000
END:VEVENT
END:VCALENDAR
