BEGIN:VCALENDAR
PRODID:-//eluceo/ical//2.0/EN
VERSION:2.0
CALSCALE:GREGORIAN
BEGIN:VEVENT
UID:b89d9a80af4acffde49c754d8dea03d4
DTSTAMP:20260419T205258Z
SUMMARY:Evenings with Steve: Interview with The Honourable John R. Baird\, 
 P.C.
DESCRIPTION:UJA Federation of Greater Toronto\nJewish Toronto Calendar\nhtt
 ps://jewishtoronto.com/calendar/evenings-with-steve-interview-with-the-hon
 ourable-john-r-baird-pc-1611078835\n\nJoin Steven Skurka LLB\, for his win
 ter series\, as he continues to interview those who have made a mark on ou
 r community. Click here to register https://www.bethsholom.net/event/eveni
 ngs-with-steve1.html
DTSTART;TZID=America/Toronto:20210119T190000
DTEND;TZID=America/Toronto:20210119T200000
END:VEVENT
END:VCALENDAR
