BEGIN:VCALENDAR
PRODID:-//eluceo/ical//2.0/EN
VERSION:2.0
CALSCALE:GREGORIAN
BEGIN:VEVENT
UID:7a7147f67a58c673aa230c1bbcab91a8
DTSTAMP:20260423T170030Z
SUMMARY:Evenings with Steve: Interview with Dr. Deborah E. Lipstadt
DESCRIPTION:UJA Federation of Greater Toronto\nJewish Toronto Calendar\nhtt
 ps://jewishtoronto.com/calendar/evenings-with-steve-interview-with-dr-debo
 rah-e-lipstadt-1611092448\n\nJoin Steven Skurka LLB\, from Beth Sholom Syn
 agogue\, for his virtual winter series\, as he continues to interview thos
 e who have made a mark on our community.On February 2\, 2021\, Steven Skur
 ka will interview Dr. Deborah E. Lipstadt.Deborah Esther Lipstadt is a dis
 tinguished American historian\, best known as author of the books Denying 
 the Holocaust\, History on Trial: My Day in Court with a Holocaust Denier\
 , The Eichmann Trial\, and Antisemitism: Here and Now. Dr. Lipstadt is the
  Dorot Professor ...
DTSTART;TZID=America/Toronto:20210202T190000
DTEND;TZID=America/Toronto:20210202T200000
END:VEVENT
END:VCALENDAR
