BEGIN:VCALENDAR
PRODID:-//eluceo/ical//2.0/EN
VERSION:2.0
CALSCALE:GREGORIAN
BEGIN:VEVENT
UID:64a0c1d8780123a9e8a6867aa7d1fdde
DTSTAMP:20260424T151137Z
SUMMARY:Evenings with Steve: Interview with Bret Stephens
DESCRIPTION:UJA Federation of Greater Toronto\nJewish Toronto Calendar\nhtt
 ps://jewishtoronto.com/calendar/evenings-with-steve-interview-with-bret-st
 ephens-1614365635\n\nJoin Steven Skurka LLB\, from Beth Sholom Synagogue\,
  for his virtual series\, as he continues to interview those who have made
  a mark on our community.\n\nOn March 2\, 2021\, Steven Skurka will interv
 iew Bret Stephens.\n\nBret Stephens is an op-ed columnist with The New Yor
 k Times and winner of the 2013 Pulitzer Prize for distinguished commentary
  and a 2019 Ellis Island Medal of Honor. He has previously worked as forei
 gn-affairs columnist for the Wall Street Journal and editor-in-chief of Th
 e Jer...
DTSTART;TZID=America/Toronto:20210302T190000
DTEND;TZID=America/Toronto:20210302T200000
END:VEVENT
END:VCALENDAR
