BEGIN:VCALENDAR
PRODID:-//eluceo/ical//2.0/EN
VERSION:2.0
CALSCALE:GREGORIAN
BEGIN:VEVENT
UID:67e930e29299295738b382fb13600a05
DTSTAMP:20260424T135442Z
SUMMARY:Evening with Menachem Kaiser "Plunder" (HMH\, 2021)
DESCRIPTION:UJA Federation of Greater Toronto\nJewish Toronto Calendar\nhtt
 ps://jewishtoronto.com/calendar/evening-with-menachem-kaiser-plunder-hmh-2
 021-1614798371\n\nConversation with author Menachem Kaiser and Prof. Doris
  Bergen about forthcoming book &quot\;Plunder\, A Memoir of Family Propert
 y and Nazi Treasure&quot\; (HMH\, 2021)
DTSTART;TZID=America/Toronto:20210317T190000
DTEND;TZID=America/Toronto:20210317T200000
END:VEVENT
END:VCALENDAR
