BEGIN:VCALENDAR
PRODID:-//eluceo/ical//2.0/EN
VERSION:2.0
CALSCALE:GREGORIAN
BEGIN:VEVENT
UID:570d4380a305fb3c75995808e99763b4
DTSTAMP:20260422T031900Z
SUMMARY:Erev Yom Hashoah Event
DESCRIPTION:UJA Federation of Greater Toronto\nJewish Toronto Calendar\nhtt
 ps://jewishtoronto.com/calendar/erev-yom-hashoah-event\n\nErev Yom Hashoah
  Event - Friends of Simon Wiesenthal Center & Sarah & Chaim Neuberger Hol
 ocaust Education Centre\n\n \n\n \n\n 
DTSTART;TZID=America/Toronto:20160504T190000
DTEND;TZID=America/Toronto:20160504T210000
END:VEVENT
END:VCALENDAR
