BEGIN:VCALENDAR
PRODID:-//eluceo/ical//2.0/EN
VERSION:2.0
CALSCALE:GREGORIAN
BEGIN:VEVENT
UID:da834107bd76f1fa72d7b721b32f3523
DTSTAMP:20260423T155101Z
SUMMARY:Erev Seventh Day Pesach Service
DESCRIPTION:UJA Federation of Greater Toronto\nJewish Toronto Calendar\nhtt
 ps://jewishtoronto.com/calendar/erev-seventh-day-pesach-service-1585587956
 \n\nErev Seventh Day Pesach via Zoom\nTuesday\, April 14\, 6:00 pm\n\nhttp
 s://holyblossom.org/event/erev-seventh-day-pesach-service-2/
DTSTART;TZID=America/Toronto:20200414T180000
DTEND;TZID=America/Toronto:20200414T190000
END:VEVENT
END:VCALENDAR
