BEGIN:VCALENDAR
PRODID:-//eluceo/ical//2.0/EN
VERSION:2.0
CALSCALE:GREGORIAN
BEGIN:VEVENT
UID:1e54c80db9c388cf8969de9fc9c568d4
DTSTAMP:20260422T143744Z
SUMMARY:Environment and Nature in Israel Speaker:  Lance Davis\, CEO of JNF
  Canada
DESCRIPTION:UJA Federation of Greater Toronto\nJewish Toronto Calendar\nhtt
 ps://jewishtoronto.com/calendar/environment-and-nature-in-israel-speaker--
 lance-davis-ceo-of-jnf-canada-1508430062\n\nISRAEL REVISITED: A RENDEZ-VOU
 S WITH ROCKS\, ROOTS\, RELIGION\, RESTORATION 4 lectures\n\nWednesday\, Oc
 tober 25\, 2017 7:30-9:00 pm Renewed Jewish Identity & Presence in Israel\
 nSpeaker: Rabbi Jennifer Gorman\n\nThursday\, November 30\, 2017 7:30-9:00
  pm Stepping out of our Jewish Shoes\nSpeaker: Michael Rubin\n\nThursday\,
  January 25\, 2018 7:30-9:00 pm Environment and Nature in Israel\nSpeaker:
  Lance Davis\, CEO of JNF Canada\n\nThursday\, February 22\, 2018 7:30-9:0
 0 pm Bricks\, tiles\, and stones… c...
DTSTART;TZID=America/Toronto:20180125T193000
DTEND;TZID=America/Toronto:20180125T213000
END:VEVENT
END:VCALENDAR
