BEGIN:VCALENDAR
PRODID:-//eluceo/ical//2.0/EN
VERSION:2.0
CALSCALE:GREGORIAN
BEGIN:VEVENT
UID:edf89e034e0d798edd9ce98fe2c44e04
DTSTAMP:20260421T120749Z
SUMMARY:En Hiver sponsored by Emunah Women of Toronto
DESCRIPTION:UJA Federation of Greater Toronto\nJewish Toronto Calendar\nhtt
 ps://jewishtoronto.com/calendar/en-hiver-sponsored-by-emunah-canada\n\nMor
 e info to follow
DTSTART;TZID=America/Toronto:20151121T000000
DTEND;TZID=America/Toronto:20151121T000000
END:VEVENT
END:VCALENDAR
