BEGIN:VCALENDAR
PRODID:-//eluceo/ical//2.0/EN
VERSION:2.0
CALSCALE:GREGORIAN
BEGIN:VEVENT
UID:d380ee5f486dba981eb5618139f27440
DTSTAMP:20260421T171958Z
SUMMARY:Emunah Toronto Family in Israel
DESCRIPTION:UJA Federation of Greater Toronto\nJewish Toronto Calendar\nhtt
 ps://jewishtoronto.com/calendar/emunah-toronto-family-in-israel-1634746300
 \n\nFamily in Israel
DTSTART;TZID=America/Toronto:20220525T180000
DTEND;TZID=America/Toronto:20220525T210000
END:VEVENT
END:VCALENDAR
