BEGIN:VCALENDAR
PRODID:-//eluceo/ical//2.0/EN
VERSION:2.0
CALSCALE:GREGORIAN
BEGIN:VEVENT
UID:31b72da8d6fe7e3650321206d16bd9e9
DTSTAMP:20260422T233948Z
SUMMARY:Emunah Shabbat
DESCRIPTION:UJA Federation of Greater Toronto\nJewish Toronto Calendar\nhtt
 ps://jewishtoronto.com/calendar/emunah-shabbat-1547656750\n\nEmunah Shabba
 t
DTSTART;TZID=America/Toronto:20190601T000000
DTEND;TZID=America/Toronto:20190601T000000
END:VEVENT
END:VCALENDAR
