BEGIN:VCALENDAR
PRODID:-//eluceo/ical//2.0/EN
VERSION:2.0
CALSCALE:GREGORIAN
BEGIN:VEVENT
UID:f43b80170c90fdd4c411d520596c2fa9
DTSTAMP:20260423T005601Z
SUMMARY:Emunah Poker Night
DESCRIPTION:UJA Federation of Greater Toronto\nJewish Toronto Calendar\nhtt
 ps://jewishtoronto.com/calendar/emunah-poker-night-1542128024\n\nEmunah Po
 ker Night
DTSTART;TZID=America/Toronto:20190407T200000
DTEND;TZID=America/Toronto:20190408T000000
END:VEVENT
END:VCALENDAR
