BEGIN:VCALENDAR
PRODID:-//eluceo/ical//2.0/EN
VERSION:2.0
CALSCALE:GREGORIAN
BEGIN:VEVENT
UID:dc532581a15167d16265f4d4d492d7ce
DTSTAMP:20260421T095613Z
SUMMARY:Emunah Poker Night
DESCRIPTION:UJA Federation of Greater Toronto\nJewish Toronto Calendar\nhtt
 ps://jewishtoronto.com/calendar/emunah-poker-night-1508938934\n\nMore info
 rmation to follow
DTSTART;TZID=America/Toronto:20180310T200000
DTEND;TZID=America/Toronto:20180310T235500
END:VEVENT
END:VCALENDAR
