BEGIN:VCALENDAR
PRODID:-//eluceo/ical//2.0/EN
VERSION:2.0
CALSCALE:GREGORIAN
BEGIN:VEVENT
UID:1f20d9bbe4bb2b071b47d2105b5e3a9d
DTSTAMP:20260420T035750Z
SUMMARY:Emunah Family in Israel Dinner
DESCRIPTION:UJA Federation of Greater Toronto\nJewish Toronto Calendar\nhtt
 ps://jewishtoronto.com/calendar/emunah-family-in-israel-dinner\n\nEmunah's
  Family in Israel Dinner honouring the memory of Judith Rubinstein z'l
DTSTART;TZID=America/Toronto:20140513T180000
DTEND;TZID=America/Toronto:20140513T210000
END:VEVENT
END:VCALENDAR
