BEGIN:VCALENDAR
PRODID:-//eluceo/ical//2.0/EN
VERSION:2.0
CALSCALE:GREGORIAN
BEGIN:VEVENT
UID:3f60a981c5ce313e72d369cd3962e11a
DTSTAMP:20260420T035111Z
SUMMARY:Emunah Family In Israel
DESCRIPTION:UJA Federation of Greater Toronto\nJewish Toronto Calendar\nhtt
 ps://jewishtoronto.com/calendar/emunah-family-in-israel\n\nMore informatio
 n to follow.\n\n 
DTSTART;TZID=America/Toronto:20150430T000000
DTEND;TZID=America/Toronto:20150430T000000
END:VEVENT
END:VCALENDAR
