BEGIN:VCALENDAR
PRODID:-//eluceo/ical//2.0/EN
VERSION:2.0
CALSCALE:GREGORIAN
BEGIN:VEVENT
UID:50c16027312fe254c4930544e752c16a
DTSTAMP:20260424T095555Z
SUMMARY:Emunah Bake Sale
DESCRIPTION:UJA Federation of Greater Toronto\nJewish Toronto Calendar\nhtt
 ps://jewishtoronto.com/calendar/emunah-bake-sale-1488904934\n\nMore inform
 ation to follow
DTSTART;TZID=America/Toronto:20170918T190000
DTEND;TZID=America/Toronto:20170918T213000
END:VEVENT
END:VCALENDAR
