BEGIN:VCALENDAR
PRODID:-//eluceo/ical//2.0/EN
VERSION:2.0
CALSCALE:GREGORIAN
BEGIN:VEVENT
UID:b9fdbc9e16297b3b3c92173b1c6bbeb8
DTSTAMP:20260425T035350Z
SUMMARY:Empowerment: Networking & Community Building Workshop
DESCRIPTION:UJA Federation of Greater Toronto\nJewish Toronto Calendar\nhtt
 ps://jewishtoronto.com/calendar/empowerment-networking-community-building-
 workshop\n\nJDAM: Jewish Disability Advocacy Month\n\nA month of education
 \, solidarity-building\, and empowerment in support of people with disabil
 ities\, powered by the Jewish Federations of North America.\n\nThis is an 
 online event. To register: https://www.jewishtogether.org/jdam
DTSTART;TZID=America/Toronto:20210204T150000
DTEND;TZID=America/Toronto:20210204T170000
END:VEVENT
END:VCALENDAR
