BEGIN:VCALENDAR
PRODID:-//eluceo/ical//2.0/EN
VERSION:2.0
CALSCALE:GREGORIAN
BEGIN:VEVENT
UID:75973ad59e810231359f157ff9e46600
DTSTAMP:20260424T020513Z
SUMMARY:Empowerment and Inclusion with Maayan Ziv
DESCRIPTION:UJA Federation of Greater Toronto\nJewish Toronto Calendar\nhtt
 ps://jewishtoronto.com/calendar/empowerment-and-inclusion-with-maayan-ziv-
 1547739167\n\nIn honour of Jewish Disability Awareness and Inclusion Month
  (JDAIM)\, the Schwartz/Reisman Centreâ€™s Inclusion Services Department i
 s honoured to welcome special guest speaker Maayan Ziv.\n\nMaayan is an ac
 tivist\, photographer and entrepreneur. Living with Muscular Dystrophy\, s
 he is a passionate and relentless advocate for creating a more accessible 
 and inclusive world.\n\nDonâ€™t miss this unique opportunity to learn abou
 t youth empowerment\, entrepreneurship and inclusion from one of 2018â€...
DTSTART;TZID=America/Toronto:20190206T183000
DTEND;TZID=America/Toronto:20190206T193000
END:VEVENT
END:VCALENDAR
