BEGIN:VCALENDAR
PRODID:-//eluceo/ical//2.0/EN
VERSION:2.0
CALSCALE:GREGORIAN
BEGIN:VEVENT
UID:5df1c79837ac58b60c6e454d51e05737
DTSTAMP:20260419T205322Z
SUMMARY:Emotion & Primitivism in the Landscape Paintings of Emily Carr-2
DESCRIPTION:UJA Federation of Greater Toronto\nJewish Toronto Calendar\nhtt
 ps://jewishtoronto.com/calendar/emotion-primitivism-in-the-landscape-paint
 ings-of-emily-carr-2\n\nEmotion & Primitivism in the Landscape Paintings o
 f Emily Carr and Vincent Van Gogh\nWith art history teacher Osnat Lippa\nT
 he landscape paintings of revolutionary Canadian artist\nEmily Carr - name
 d "Canada's own Van Gogh" - will be compared\nand contrasted with the icon
 ic impasto paintings of Van Gogh.\nMondays | 1:30 - 3:30 pm\nApril 27 & Ma
 y 4\nSeries: $25 (+ HST) | Drop-in: $14 (+ HST)\nTo register: 416 924-6211
  x 0\nInfo: lisar@mnjcc.org (416) 924-6211 x 155\n 
DTSTART;TZID=America/Toronto:20150504T133000
DTEND;TZID=America/Toronto:20150504T153000
END:VEVENT
END:VCALENDAR
