BEGIN:VCALENDAR
PRODID:-//eluceo/ical//2.0/EN
VERSION:2.0
CALSCALE:GREGORIAN
BEGIN:VEVENT
UID:e1138f986c859abd6e43c2ece0dc4481
DTSTAMP:20260419T193831Z
SUMMARY:Emotion & Primitivism in the Landscape Paintings of Emily Carr
DESCRIPTION:UJA Federation of Greater Toronto\nJewish Toronto Calendar\nhtt
 ps://jewishtoronto.com/calendar/emotion-primitivism-in-the-landscape-paint
 ings-of-emily-carr\n\nEmotion & Primitivism in the Landscape Paintings of 
 Emily Carr and Vincent Van Gogh\nWith art history teacher Osnat Lippa\nThe
  landscape paintings of revolutionary Canadian artist\nEmily Carr - named 
 "Canada's own Van Gogh" - will be compared\nand contrasted with the iconic
  impasto paintings of Van Gogh.\nMondays | 1:30 - 3:30 pm\nApril 27 & May 
 4\nSeries: $25 (+ HST) | Drop-in: $14 (+ HST)\nTo register: 416 924-6211 x
  0\nInfo: lisar@mnjcc.org (416) 924-6211 x 155\n 
DTSTART;TZID=America/Toronto:20150427T133000
DTEND;TZID=America/Toronto:20150427T153000
END:VEVENT
END:VCALENDAR
