BEGIN:VCALENDAR
PRODID:-//eluceo/ical//2.0/EN
VERSION:2.0
CALSCALE:GREGORIAN
BEGIN:VEVENT
UID:cb90e2584406033c92d883f0591b494e
DTSTAMP:20260423T152237Z
SUMMARY:Emergency Preparedness Panel
DESCRIPTION:UJA Federation of Greater Toronto\nJewish Toronto Calendar\nhtt
 ps://jewishtoronto.com/calendar/emergency-preparedness-panel-1523549253\n\
 nDo you know what to do?\nModerator: Maureen Simpson\, Co-Chair Ward 10 Co
 mmunity Emergency Roundtable (CERT)\nJames Pasternak\, Ward 10 Councillor\
 nVeronica Atanelli\, Co-Chair Ward 10 Roundtable\nJody Steinhauer\, Presid
 ent\, Bargains Group\, Founder of Charity\, Engage and Change\nAlain Norma
 nd\, Manager\,Brampton Emergency Management Office\nAll Welcome. No Charge
 . Arback Hall. Refreshments generously sponsored by James Pasternak\, Coun
 cillor\, Ward 10
DTSTART;TZID=America/Toronto:20180415T100000
DTEND;TZID=America/Toronto:20180415T120000
END:VEVENT
END:VCALENDAR
