BEGIN:VCALENDAR
PRODID:-//eluceo/ical//2.0/EN
VERSION:2.0
CALSCALE:GREGORIAN
BEGIN:VEVENT
UID:382353a040a2cd2f2ceee9f1d62c9eca
DTSTAMP:20260421T073615Z
SUMMARY:Ellin Bessner Talk on Jewish Canadians in WWII Military
DESCRIPTION:UJA Federation of Greater Toronto\nJewish Toronto Calendar\nhtt
 ps://jewishtoronto.com/calendar/ellin-bessner-talk-on-jewish-canadians-in-
 wwii-military-1604434914\n\nAs the world commemorates Remembrance Day unde
 r COVID-19\, Toronto author and journalist Ellin Bessner speaks (via Zoom)
  about how Canada's Jewish community contributed to winning WWII.\n\nEllin
  Bessner's book "Double Threat: Canadian Jews\, the Military and WWII" tel
 ls the little known story of the 17\,000 Canadians of Jewish faith who put
  on a uniform\, defeated Hitler and rescued the survivors of the Holocaust
 .\n\nRegistration is required for this talk. To sign up\, please copy this
  link to you...
DTSTART;TZID=America/Toronto:20201108T193000
DTEND;TZID=America/Toronto:20201108T203000
END:VEVENT
END:VCALENDAR
