BEGIN:VCALENDAR
PRODID:-//eluceo/ical//2.0/EN
VERSION:2.0
CALSCALE:GREGORIAN
BEGIN:VEVENT
UID:811a5cf6d720a7dbac7a1d345927da8b
DTSTAMP:20260424T172936Z
SUMMARY:Eliezer Ben-Yehuda: Reviver of Spoken Hebrew
DESCRIPTION:UJA Federation of Greater Toronto\nJewish Toronto Calendar\nhtt
 ps://jewishtoronto.com/calendar/eliezer-ben-yehuda-reviver-of-spoken-hebre
 w-1486160160\n\n\n\n
DTSTART;TZID=America/Toronto:20170226T140000
DTEND;TZID=America/Toronto:20170226T153000
END:VEVENT
END:VCALENDAR
