BEGIN:VCALENDAR
PRODID:-//eluceo/ical//2.0/EN
VERSION:2.0
CALSCALE:GREGORIAN
BEGIN:VEVENT
UID:9b17d72d7492c2fa9c22f6e99a5aaf12
DTSTAMP:20260421T220501Z
SUMMARY:Eleanor's Story: Life After War
DESCRIPTION:UJA Federation of Greater Toronto\nJewish Toronto Calendar\nhtt
 ps://jewishtoronto.com/calendar/eleanors-story-life-after-war-1750583281\n
 \n★★★★★ “Audience went from tears to breath held in suspense t
 o roaring laughter\, all in 60 minutes.” —Edmonton Journal\n\n★★
 ★★★ “Left me lost for words and yet I cannot stop talking about it
 .” —The Advertiser\n\n★★★★★ “This is a stunning piece of t
 heatre\, and not one to be missed.” —Voice Magazine\n\n★★★★★
  “A must-see for history buffs and theatre-aficionados alike.” —Frin
 ge Review UK\n\nIngrid Garner\, 17-time award-winning...
DTSTART;TZID=America/Toronto:20250628T193000
DTEND;TZID=America/Toronto:20250628T203000
END:VEVENT
END:VCALENDAR
