BEGIN:VCALENDAR
PRODID:-//eluceo/ical//2.0/EN
VERSION:2.0
CALSCALE:GREGORIAN
BEGIN:VEVENT
UID:798f0448602a6e63618bdf025f7dbf48
DTSTAMP:20260421T163716Z
SUMMARY:Eitz Chaim Schools presents Rabbi Paysachs Krohn
DESCRIPTION:UJA Federation of Greater Toronto\nJewish Toronto Calendar\nhtt
 ps://jewishtoronto.com/calendar/eitz-chaim-schools-presents-rabbi-paysachs
 -krohn\n\nEitz Chaim Schools presents Rabbi Paysachs Krohn\, World Renowne
 d Speaker and Author of the "Magid" Series\n\nFree Admission
DTSTART;TZID=America/Toronto:20150920T200000
DTEND;TZID=America/Toronto:20150920T213000
END:VEVENT
END:VCALENDAR
