BEGIN:VCALENDAR
PRODID:-//eluceo/ical//2.0/EN
VERSION:2.0
CALSCALE:GREGORIAN
BEGIN:VEVENT
UID:86c144316ededdef2f4d4561fb4f34cc
DTSTAMP:20260424T004130Z
SUMMARY:Eitz Chaim Play
DESCRIPTION:UJA Federation of Greater Toronto\nJewish Toronto Calendar\nhtt
 ps://jewishtoronto.com/calendar/eitz-chaim-play-1514815671\n\nAt Bais Yaak
 ov High School\nFor women and girls \, and boys age 6 and under
DTSTART;TZID=America/Toronto:20180211T133000
DTEND;TZID=America/Toronto:20180211T153000
END:VEVENT
END:VCALENDAR
