BEGIN:VCALENDAR
PRODID:-//eluceo/ical//2.0/EN
VERSION:2.0
CALSCALE:GREGORIAN
BEGIN:VEVENT
UID:672f7fbafb2c7b5edcfd66febf086973
DTSTAMP:20260419T172612Z
SUMMARY:Eit Zamir: An Evening of Healing and Renewal
DESCRIPTION:UJA Federation of Greater Toronto\nJewish Toronto Calendar\nhtt
 ps://jewishtoronto.com/calendar/eit-zamir-an-evening-of-healing-and-renewa
 l-1640279263\n\nIt is the time for song. We have travelled quite a journey
  through the pandemic. On the weekend of Shabbat Shirah and the beginning 
 of Tu B&#039\;Shevat\, together with an All Star collection of musical gue
 sts\, join us as we acknowledge the healing that is necessary and celebrat
 e the renewal that is possible.\n\nArtist-in-residence\, Aviva Chernick\, 
 hosts this special evening of song together with our very own H̱azzan Sid
 ney Ezer and a host of special guests including Israeli superstar Achinoam
 ...
DTSTART;TZID=America/Toronto:20220116T190000
DTEND;TZID=America/Toronto:20220116T203000
END:VEVENT
END:VCALENDAR
