BEGIN:VCALENDAR
PRODID:-//eluceo/ical//2.0/EN
VERSION:2.0
CALSCALE:GREGORIAN
BEGIN:VEVENT
UID:4928222df9ec643f69161ca5d69dc085
DTSTAMP:20260421T155856Z
SUMMARY:Effective Advocacy for Inclusive Policy
DESCRIPTION:UJA Federation of Greater Toronto\nJewish Toronto Calendar\nhtt
 ps://jewishtoronto.com/calendar/effective-advocacy-for-inclusive-policy\n\
 nJDAM: Jewish Disability Advocacy Month\n\nA month of education\, solidari
 ty-building\, and empowerment in support of people with disabilities\, pow
 ered by the Jewish Federations of North America.\n\nThis is an online even
 t. To register: https://www.jewishtogether.org/jdam
DTSTART;TZID=America/Toronto:20210223T150000
DTEND;TZID=America/Toronto:20210223T170000
END:VEVENT
END:VCALENDAR
