BEGIN:VCALENDAR
PRODID:-//eluceo/ical//2.0/EN
VERSION:2.0
CALSCALE:GREGORIAN
BEGIN:VEVENT
UID:1e26bea76f3726afeb76235ba5127a39
DTSTAMP:20260423T182910Z
SUMMARY:Edwin Goldstein Tribute Event
DESCRIPTION:UJA Federation of Greater Toronto\nJewish Toronto Calendar\nhtt
 ps://jewishtoronto.com/calendar/edwin-goldstein-tribute-event-1499285086\n
 \nMore information to come
DTSTART;TZID=America/Toronto:20171022T000000
DTEND;TZID=America/Toronto:20171022T235500
END:VEVENT
END:VCALENDAR
