BEGIN:VCALENDAR
PRODID:-//eluceo/ical//2.0/EN
VERSION:2.0
CALSCALE:GREGORIAN
BEGIN:VEVENT
UID:ff7e3f9445a6282ad0c52cd974781f55
DTSTAMP:20260421T101433Z
SUMMARY:Education Evening - Endurance of a Culture
DESCRIPTION:UJA Federation of Greater Toronto\nJewish Toronto Calendar\nhtt
 ps://jewishtoronto.com/calendar/education-evening---endurance-of-a-culture
 -1539202521\n\nNa'amat Canada Toronto presents their Education Evening - E
 ndurance of a Culture. Join Miriam Preszow Weiner\, singer-songwriter-poet
  and daughter of Holocaust Survivors\, as she presents her parents' story 
 on film\, artistically interpreted and authentically portrayed. The film f
 eatures original music\, songs and imagery\, using both English and Yiddis
 h.\n\nRegistration is $10 in advance\, $20 at the door. Please RSVP by pho
 ne: 416-636-5425 or email: toronto.info@naamat.com.\n\nRefreshments will f
 ...
DTSTART;TZID=America/Toronto:20181024T193000
DTEND;TZID=America/Toronto:20181024T213000
END:VEVENT
END:VCALENDAR
