BEGIN:VCALENDAR
PRODID:-//eluceo/ical//2.0/EN
VERSION:2.0
CALSCALE:GREGORIAN
BEGIN:VEVENT
UID:5e88827206750ec132cad5413ac7c1fb
DTSTAMP:20260424T161150Z
SUMMARY:"EAT PRAY LOVE" @ Chabad Lubavitch of Markham
DESCRIPTION:UJA Federation of Greater Toronto\nJewish Toronto Calendar\nhtt
 ps://jewishtoronto.com/calendar/eat-pray-love-chabad-lubavitch-of-markham\
 n\nThe Chabad Markham Sisterhood invites all Jewish women to come learn to
  make delicious food\, pray together at the annual "Amen Party" and embrac
 e yourself with Rus Devorah Wallen\, psychotherapist and motivational ente
 rtainer. Enjoy a yogourt & smoothie bar and mini sandwiches throughout the
  sessions.\n\nBy RSVP only.\n\n$45/person BEFORE April 20th. $55/person AF
 TER April 20th. ($36/person for SENIORS.) \n\n \n\n \n\n \n\n \n\n \
 n\n \n\n \n\n 
DTSTART;TZID=America/Toronto:20150426T160000
DTEND;TZID=America/Toronto:20150426T180000
END:VEVENT
END:VCALENDAR
