BEGIN:VCALENDAR
PRODID:-//eluceo/ical//2.0/EN
VERSION:2.0
CALSCALE:GREGORIAN
BEGIN:VEVENT
UID:72e4be3b262f008f75f9d1b37cb8ada5
DTSTAMP:20260424T042256Z
SUMMARY:Earth Day Celebrations @ BEBY
DESCRIPTION:UJA Federation of Greater Toronto\nJewish Toronto Calendar\nhtt
 ps://jewishtoronto.com/calendar/earth-day-celebrations-beby\n\nThe Greenin
 g Committee presents:  Earth Day Celebrations\n\n﻿Earth Day : Every Day
  Clean Commute\n\n﻿Join your hosts ~ Omer & Hilda.  Hilda from the Gree
 ning Committee and ShinShinit Omer Itzhak\nLearn about the Israeli-Canadia
 n Connection\n\nIntro by Rabbi Howard Morrison.\nCall the office to reserv
 e your spot.\nWe look forward to hearing about your environmental actions.
 \n\nAll Welcome.  Refreshments Served.\n\nMembers: $3 | Guests $5\n 
DTSTART;TZID=America/Toronto:20150420T200000
DTEND;TZID=America/Toronto:20150420T213000
END:VEVENT
END:VCALENDAR
