BEGIN:VCALENDAR
PRODID:-//eluceo/ical//2.0/EN
VERSION:2.0
CALSCALE:GREGORIAN
BEGIN:VEVENT
UID:4102582f9e5c434167b3f0235106108e
DTSTAMP:20260425T211628Z
SUMMARY:Dumplings & Dreidels - A DeLIGHTful Hanukkah Celebration!
DESCRIPTION:UJA Federation of Greater Toronto\nJewish Toronto Calendar\nhtt
 ps://jewishtoronto.com/calendar/dumplings--dreidels---a-delightful-hanukka
 h-celebration-1764108223\n\nUp your Hanukkah menu with delicious dumplings
 ! We'll be learning how to make vegetable fried dumplings for Hanukkah!\nY
 ou'll be taking yours home - be sure to bring your favourite container.\n\
 nRefreshments will be served\, including some dumplings to taste! We'll ha
 ve dreidels and Hanukkah fun too!\n\nThis event is open to all\, regardles
 s of gender\, THZ membership\, and dumpling experience!
DTSTART;TZID=America/Toronto:20251218T193000
DTEND;TZID=America/Toronto:20251218T213000
END:VEVENT
END:VCALENDAR
