BEGIN:VCALENDAR
PRODID:-//eluceo/ical//2.0/EN
VERSION:2.0
CALSCALE:GREGORIAN
BEGIN:VEVENT
UID:58858cd37fdd1198bc84e9eb5034eee0
DTSTAMP:20260420T110528Z
SUMMARY:Dream with Scientists
DESCRIPTION:UJA Federation of Greater Toronto\nJewish Toronto Calendar\nhtt
 ps://jewishtoronto.com/calendar/dream-with-scientists-1509560344\n\nFor ye
 ars\, we’ve dined with scientists and now\, we’re inviting you to drea
 m with us. Dream with Scientists celebrates innovation and excellence at t
 he Lunenfeld-Tanenbaum Research Institute and brings together the business
 \, philanthropic and scientific communities for an evening of wonder. As S
 inai Health System’s marquee benefit\, Dream with Scientists will highli
 ght four pillars of research – clinical\, epidemiology\, innovation and 
 discovery – revealing the magic behind the science.
DTSTART;TZID=America/Toronto:20180328T180000
DTEND;TZID=America/Toronto:20180328T230000
END:VEVENT
END:VCALENDAR
