BEGIN:VCALENDAR
PRODID:-//eluceo/ical//2.0/EN
VERSION:2.0
CALSCALE:GREGORIAN
BEGIN:VEVENT
UID:23be380a01b5f8575814e7a78607c42e
DTSTAMP:20260424T030222Z
SUMMARY:Holy Blossom Temple - Scholar in Residence: Dr. Gary P. Zola
DESCRIPTION:UJA Federation of Greater Toronto\nJewish Toronto Calendar\nhtt
 ps://jewishtoronto.com/calendar/dr-gary-p-zola-1485266707\n\nIn Celebratio
 n of our 160th Anniversary and\nin Commemoration of Rabbi Plaut’s Fifth 
 Yahrtzeit\nHoly Blossom Temple is pleased to welcome\nDr. Gary P. Zola as 
 our Scholar-in-Residence.\nSaturday evening\, February 11\, 2017\n\nRabbi 
 Gary P. Zola is the Executive Director of The Jacob Rader Marcus Center of
  the American Jewish Archives and the Edward M. Ackerman Family Distinguis
 hed Professor of the American Jewish Experience & Reform Jewish History at
  The Hebrew Union College-Jewish Institute...
DTSTART;TZID=America/Toronto:20170211T170000
DTEND;TZID=America/Toronto:20170211T210000
END:VEVENT
END:VCALENDAR
