BEGIN:VCALENDAR
PRODID:-//eluceo/ical//2.0/EN
VERSION:2.0
CALSCALE:GREGORIAN
BEGIN:VEVENT
UID:c03055b492b92d8f73e7f9063f687a27
DTSTAMP:20260423T190606Z
SUMMARY:Dorot Presents: Our Story Through Stained Glass
DESCRIPTION:UJA Federation of Greater Toronto\nJewish Toronto Calendar\nhtt
 ps://jewishtoronto.com/calendar/dorot-presents-our-story-through-stained-g
 lass-1708121870\n\nDorot Presents “Our Story Through Stained Glass: The 
 Holy Blossom Sanctuary and the Families Who Built It”\nwith the Holy Blo
 ssom Temple Archives Committee\n\nDorot and the Archives Committee are col
 laborating on this very special presentation which highlights the historic
  Holy Blossom Sanctuary\, speaking about our beautiful stained glass windo
 ws (including the famous Rose Window)\, and the contributions of the gener
 ations of families who made them happen.\n\nThis event is $15/pp for membe
 ...
DTSTART;TZID=America/Toronto:20240227T113000
DTEND;TZID=America/Toronto:20240227T123000
END:VEVENT
END:VCALENDAR
