BEGIN:VCALENDAR
PRODID:-//eluceo/ical//2.0/EN
VERSION:2.0
CALSCALE:GREGORIAN
BEGIN:VEVENT
UID:a27f28d45bc4efaa70e2c401a94e836b
DTSTAMP:20260420T195443Z
SUMMARY:Don't Worry\, Just Cook
DESCRIPTION:UJA Federation of Greater Toronto\nJewish Toronto Calendar\nhtt
 ps://jewishtoronto.com/calendar/dont-worry-just-cook-1667164741\n\nIn inte
 rview format\, based on Bonnie and Anna&#039\;s new cookbook &quot\;Don’
 t Worry\, Just Cook”\, we will discuss the role family\, friendships\, f
 aith\, culture and influence play\, as well as the process of writing a ne
 w cookbook!  Then\, enjoy a short demo of two dishes from the book and con
 clude with a few take home treats from the new cookbook.\n\nMonday\, Dec 5
 \, 2022\, 7 PM\nMNJCC\, 750 Spadina Ave\, Room 318\, Toronto\, Ontario M5S
  2J2\n\nPrice: $36 per person\, proceeds go to Rabbi’s Discretionary...
DTSTART;TZID=America/Toronto:20221205T190000
DTEND;TZID=America/Toronto:20221205T210000
END:VEVENT
END:VCALENDAR
