BEGIN:VCALENDAR
PRODID:-//eluceo/ical//2.0/EN
VERSION:2.0
CALSCALE:GREGORIAN
BEGIN:VEVENT
UID:e4c6856e8cc90cb9b262cb511e2b2a6f
DTSTAMP:20260422T222900Z
SUMMARY:Dog Day at the J
DESCRIPTION:UJA Federation of Greater Toronto\nJewish Toronto Calendar\nhtt
 ps://jewishtoronto.com/calendar/dog-day-at-the-j-1527088546\n\nThe Schwart
 z/Reisman Centre\, in partnership with the Canadian Friends of the Israel 
 Guide Dog Center\, is excited to invite you to the canine event of the sum
 mer - Dog Day at the J!\n\nJoin us for an evening of doggie delights with 
 a festival-like atmosphere. We will have dog related goods and services\, 
 an off-leash area\, demonstrations\, and much more.\n\nThursday July 5th (
 rain date July 12th)\n6:30pm-8:00pm\nWest Courtyard\, Lebovic Campus\n\nFr
 ee admission\; $5 to enter the off-leash area plu...
DTSTART;TZID=America/Toronto:20180705T183000
DTEND;TZID=America/Toronto:20180705T200000
END:VEVENT
END:VCALENDAR
