BEGIN:VCALENDAR
PRODID:-//eluceo/ical//2.0/EN
VERSION:2.0
CALSCALE:GREGORIAN
BEGIN:VEVENT
UID:bc97183a4e3eb34a6b72564a38aef10c
DTSTAMP:20260422T010205Z
SUMMARY:Does the Bible Really Say That? with Rabbi Lawrence Englander
DESCRIPTION:UJA Federation of Greater Toronto\nJewish Toronto Calendar\nhtt
 ps://jewishtoronto.com/calendar/does-the-bible-really-say-that-with-rabbi-
 lawrence-englander-1526392200\n\nA Temple Sinai Program: Lunch & Learn Dai
 ly Specials — Does the Bible Really Say That? with Rabbi Lawrence Englan
 der\nGeorge Gershwin wrote a song for Porgy and Bess\, “It Ain’t Neces
 sarily So\,” which casts doubt on some tall tales in the Bible. This dou
 bt often occurs due to a misunderstanding of the text. Here’s a sample o
 f the questions we’ll try to straighten out in this course: Did Adam and
  Eve really sin? And what was the fruit they ate? Are the “Ten Commandme
 nts” really ...
DTSTART;TZID=America/Toronto:20180807T120000
DTEND;TZID=America/Toronto:20180807T140000
END:VEVENT
END:VCALENDAR
