BEGIN:VCALENDAR
PRODID:-//eluceo/ical//2.0/EN
VERSION:2.0
CALSCALE:GREGORIAN
BEGIN:VEVENT
UID:81803b49932e1ffb57f92b2b25d4c866
DTSTAMP:20260423T020655Z
SUMMARY:Documentary: The S Word
DESCRIPTION:UJA Federation of Greater Toronto\nJewish Toronto Calendar\nhtt
 ps://jewishtoronto.com/calendar/documentary-the-s-word-1503322524\n\n Join
  the Canadian Association for Suicide Prevention for a  screening of this 
 moving documentary about suicide survivors. In the Al Green Theatre.
DTSTART;TZID=America/Toronto:20170912T190000
DTEND;TZID=America/Toronto:20170912T220000
END:VEVENT
END:VCALENDAR
