BEGIN:VCALENDAR
PRODID:-//eluceo/ical//2.0/EN
VERSION:2.0
CALSCALE:GREGORIAN
BEGIN:VEVENT
UID:1c00bfcb655be94800569f37c01fa187
DTSTAMP:20260422T113109Z
SUMMARY:Dõna Gracia\,  A Superhero from Long Ago
DESCRIPTION:UJA Federation of Greater Toronto\nJewish Toronto Calendar\nhtt
 ps://jewishtoronto.com/calendar/dna-gracia--a-superhero-from-long-ago-1613
 760251\n\nA Temple Sinai Program: Dõna Gracia\, A Superhero from Long Ago
  - Dialogue with author Marilyn Froggatt and Rabbi Michael Dolgin\n\nMonda
 y\, March 8 at 2.00 p.m.\n\nJoin us on International Woman's Day to hear t
 he story of an extraordinary 16th-century Jewish woman who was virtually f
 orgotten for over 500 years but is now being honoured around the world.\n\
 n \n\nAuthor Marilyn Froggatt brings to life the dramatic story of Doña 
 Gracia Nasi\, born in Portugal in 1510 into a Sephardic Jewish fam...
DTSTART;TZID=America/Toronto:20210308T140000
DTEND;TZID=America/Toronto:20210308T150000
END:VEVENT
END:VCALENDAR
