BEGIN:VCALENDAR
PRODID:-//eluceo/ical//2.0/EN
VERSION:2.0
CALSCALE:GREGORIAN
BEGIN:VEVENT
UID:bfb80c0351c037c409443cf259227b86
DTSTAMP:20260421T144107Z
SUMMARY:DJC Movie Night ~ Two Documentaries
DESCRIPTION:UJA Federation of Greater Toronto\nJewish Toronto Calendar\nhtt
 ps://jewishtoronto.com/calendar/djc-movie-night-two-documentaries\n\n7:00 
 pm ~ nosh / 7:30 ~ screening.\n\nThe Lady in Number 6:   Music Saved My
  Life / Running Time:  39 minutes\nNominated for an Oscar in the Short Do
 cumentary Category\, this is an inspiring film about Alice Sommer who\, at
  age 109\, is the world’s oldest concert pianist and a Holocaust survivo
 r.  Telling the story of how music literally saved her life\, this film i
 s a testament to resiliency and the enduring power of art.  Interested?
   View the trailer.\n\nThe Colours of My Father: A ...
DTSTART;TZID=America/Toronto:20150606T190000
DTEND;TZID=America/Toronto:20150606T220000
END:VEVENT
END:VCALENDAR
