BEGIN:VCALENDAR
PRODID:-//eluceo/ical//2.0/EN
VERSION:2.0
CALSCALE:GREGORIAN
BEGIN:VEVENT
UID:18aa468c2c82cf10d7c9bfbe965f1621
DTSTAMP:20260421T223700Z
SUMMARY:Diwan Saz Interfaith Ensemble Panel Discussion
DESCRIPTION:UJA Federation of Greater Toronto\nJewish Toronto Calendar\nhtt
 ps://jewishtoronto.com/calendar/diwan-saz-interfaith-ensemble-panel-discus
 sion\n\nFree - No advance registration required.
DTSTART;TZID=America/Toronto:20150311T200000
DTEND;TZID=America/Toronto:20150311T213000
END:VEVENT
END:VCALENDAR
