BEGIN:VCALENDAR
PRODID:-//eluceo/ical//2.0/EN
VERSION:2.0
CALSCALE:GREGORIAN
BEGIN:VEVENT
UID:5eac2dd94b9e247e4506e94a9b70c83a
DTSTAMP:20260423T144630Z
SUMMARY:Disability and Inclusion: How do we move forward as a community
DESCRIPTION:UJA Federation of Greater Toronto\nJewish Toronto Calendar\nhtt
 ps://jewishtoronto.com/calendar/disability-and-inclusion-how-do-we-move-fo
 rward-as-a-community-1546872479\n\nThis Town Hall Meeting will convene exp
 erts in the field to examine the status of Disability and Inclusion in our
  community as well as discuss next steps. Moderated by Dena Libman\, 5 pan
 elists will share their expertise and field questions from those in attend
 ance. A livestream of the event will be available at www.facebook.com/dani
 toronto\n\n 
DTSTART;TZID=America/Toronto:20190210T190000
DTEND;TZID=America/Toronto:20190210T203000
END:VEVENT
END:VCALENDAR
